BEGIN:VCALENDAR
VERSION:2.0
PRODID:-//North Franklin Township - ECPv6.9.0//NONSGML v1.0//EN
CALSCALE:GREGORIAN
METHOD:PUBLISH
X-ORIGINAL-URL:https://northfranklin.org
X-WR-CALDESC:Events for North Franklin Township
REFRESH-INTERVAL;VALUE=DURATION:PT1H
X-Robots-Tag:noindex
X-PUBLISHED-TTL:PT1H
BEGIN:VTIMEZONE
TZID:UTC
BEGIN:STANDARD
TZOFFSETFROM:+0000
TZOFFSETTO:+0000
TZNAME:UTC
DTSTART:20210101T000000
END:STANDARD
END:VTIMEZONE
BEGIN:VEVENT
DTSTART;VALUE=DATE:20210925
DTEND;VALUE=DATE:20210926
DTSTAMP:20260422T161018
CREATED:20210421T155038Z
LAST-MODIFIED:20210421T155038Z
UID:4996-1632528000-1632614399@northfranklin.org
SUMMARY:Passalacqua Pavilion #1 Reserved
DESCRIPTION:
URL:https://northfranklin.org/calendar/passalacqua-pavilion-1-reserved-14/
END:VEVENT
BEGIN:VEVENT
DTSTART;VALUE=DATE:20210925
DTEND;VALUE=DATE:20210926
DTSTAMP:20260422T161018
CREATED:20210421T155325Z
LAST-MODIFIED:20210421T155325Z
UID:5014-1632528000-1632614399@northfranklin.org
SUMMARY:Stout Pavilion #2 Reserved
DESCRIPTION:
URL:https://northfranklin.org/calendar/stout-pavilion-2-reserved-8/
END:VEVENT
END:VCALENDAR