BEGIN:VCALENDAR
VERSION:2.0
PRODID:-//North Franklin Township - ECPv6.9.0//NONSGML v1.0//EN
CALSCALE:GREGORIAN
METHOD:PUBLISH
X-WR-CALNAME:North Franklin Township
X-ORIGINAL-URL:https://northfranklin.org
X-WR-CALDESC:Events for North Franklin Township
REFRESH-INTERVAL;VALUE=DURATION:PT1H
X-Robots-Tag:noindex
X-PUBLISHED-TTL:PT1H
BEGIN:VTIMEZONE
TZID:UTC
BEGIN:STANDARD
TZOFFSETFROM:+0000
TZOFFSETTO:+0000
TZNAME:UTC
DTSTART:20210101T000000
END:STANDARD
END:VTIMEZONE
BEGIN:VEVENT
DTSTART;VALUE=DATE:20210807
DTEND;VALUE=DATE:20210808
DTSTAMP:20260422T161005
CREATED:20210603T201833Z
LAST-MODIFIED:20210623T185217Z
UID:5115-1628294400-1628380799@northfranklin.org
SUMMARY:Passalacqua Pavilion #1 Reserved
DESCRIPTION:
URL:https://northfranklin.org/calendar/passalacqua-pavilion-1-reserved/
END:VEVENT
BEGIN:VEVENT
DTSTART;VALUE=DATE:20210808
DTEND;VALUE=DATE:20210809
DTSTAMP:20260422T161005
CREATED:20210421T155110Z
LAST-MODIFIED:20210421T155110Z
UID:5000-1628380800-1628467199@northfranklin.org
SUMMARY:Passalacqua Pavilion #1 Reserved
DESCRIPTION:
URL:https://northfranklin.org/calendar/passalacqua-pavilion-1-reserved-16/
END:VEVENT
BEGIN:VEVENT
DTSTART;VALUE=DATE:20210814
DTEND;VALUE=DATE:20210815
DTSTAMP:20260422T161005
CREATED:20210520T135151Z
LAST-MODIFIED:20210520T135151Z
UID:5097-1628899200-1628985599@northfranklin.org
SUMMARY:Passalacqua Pavilion #1 Reserved
DESCRIPTION:
URL:https://northfranklin.org/calendar/passalacqua-pavilion-1-reserved-19/
END:VEVENT
BEGIN:VEVENT
DTSTART;VALUE=DATE:20210815
DTEND;VALUE=DATE:20210816
DTSTAMP:20260422T161005
CREATED:20210426T132623Z
LAST-MODIFIED:20210426T132623Z
UID:5029-1628985600-1629071999@northfranklin.org
SUMMARY:Passalacqua Pavilion #1 Reserved
DESCRIPTION:
URL:https://northfranklin.org/calendar/passalacqua-pavilion-1-reserved-17/
END:VEVENT
BEGIN:VEVENT
DTSTART;VALUE=DATE:20210817
DTEND;VALUE=DATE:20210818
DTSTAMP:20260422T161005
CREATED:20210623T185627Z
LAST-MODIFIED:20210623T185924Z
UID:5145-1629158400-1629244799@northfranklin.org
SUMMARY:Passalacqua Pavilion #1 Reserved
DESCRIPTION:
URL:https://northfranklin.org/calendar/passalacqua-pavilion-1-reserved-21/
END:VEVENT
BEGIN:VEVENT
DTSTART;VALUE=DATE:20210817
DTEND;VALUE=DATE:20210818
DTSTAMP:20260422T161005
CREATED:20210623T185709Z
LAST-MODIFIED:20210623T185949Z
UID:5147-1629158400-1629244799@northfranklin.org
SUMMARY:Stout Pavilion #2 Reserved
DESCRIPTION:
URL:https://northfranklin.org/calendar/stout-pavilion-2-reserved-12/
END:VEVENT
BEGIN:VEVENT
DTSTART;VALUE=DATE:20210820
DTEND;VALUE=DATE:20210821
DTSTAMP:20260422T161005
CREATED:20210421T155211Z
LAST-MODIFIED:20210421T155211Z
UID:5004-1629417600-1629503999@northfranklin.org
SUMMARY:Stout Pavilion #2 Reserved
DESCRIPTION:
URL:https://northfranklin.org/calendar/stout-pavilion-2-reserved-3/
END:VEVENT
BEGIN:VEVENT
DTSTART;VALUE=DATE:20210820
DTEND;VALUE=DATE:20210821
DTSTAMP:20260422T161005
CREATED:20210421T154715Z
LAST-MODIFIED:20210421T154715Z
UID:4984-1629417600-1629503999@northfranklin.org
SUMMARY:Passalacqua Pavilion #1 Reserved
DESCRIPTION:
URL:https://northfranklin.org/calendar/passalacqua-pavilion-1-reserved-9/
END:VEVENT
BEGIN:VEVENT
DTSTART;VALUE=DATE:20210821
DTEND;VALUE=DATE:20210822
DTSTAMP:20260422T161005
CREATED:20210421T154938Z
LAST-MODIFIED:20210421T154938Z
UID:4988-1629504000-1629590399@northfranklin.org
SUMMARY:Passalacqua Pavilion #1 Reserved
DESCRIPTION:
URL:https://northfranklin.org/calendar/passalacqua-pavilion-1-reserved-10/
END:VEVENT
BEGIN:VEVENT
DTSTART;VALUE=DATE:20210821
DTEND;VALUE=DATE:20210822
DTSTAMP:20260422T161005
CREATED:20210421T155226Z
LAST-MODIFIED:20210421T155226Z
UID:5006-1629504000-1629590399@northfranklin.org
SUMMARY:Stout Pavilion #2 Reserved
DESCRIPTION:
URL:https://northfranklin.org/calendar/stout-pavilion-2-reserved-4/
END:VEVENT
END:VCALENDAR